BEGIN:VCALENDAR
VERSION:2.0
PRODID:-//Devpost\, Inc.//The Future Innovators Hackathon: A Road to START 
 Hack//EN
CALSCALE:GREGORIAN
BEGIN:VTIMEZONE
TZID:Europe/Lisbon
BEGIN:DAYLIGHT
DTSTART:20260329T020000
TZOFFSETFROM:+0000
TZOFFSETTO:+0100
RRULE:FREQ=YEARLY;BYDAY=-1SU;BYMONTH=3
TZNAME:WEST
END:DAYLIGHT
BEGIN:STANDARD
DTSTART:20261025T010000
TZOFFSETFROM:+0100
TZOFFSETTO:+0000
RRULE:FREQ=YEARLY;BYDAY=-1SU;BYMONTH=10
TZNAME:WET
END:STANDARD
END:VTIMEZONE
BEGIN:VEVENT
DTSTAMP:20260423T051737Z
UID:68b4f646-fd15-471b-93b4-37eaca2fc325
DTSTART;TZID=Europe/Lisbon:20260331T120000
DTEND;TZID=Europe/Lisbon:20260425T110000
DESCRIPTION:https://future-innovators-hackathon.devpost.com/
LOCATION:Tv. Grilo 1\, 1950-145 Lisboa\, Portugal
SUMMARY:The Future Innovators Hackathon: A Road to START Hack
BEGIN:VALARM
ACTION:DISPLAY
TRIGGER:-P3D
SUMMARY:Get ready\, the hacking starts in 3 days.
END:VALARM
END:VEVENT
END:VCALENDAR
